BEGIN:VCALENDAR
VERSION:2.0
PRODID:-//ChamberMaster//Event Calendar 2.0//EN
METHOD:PUBLISH
X-PUBLISHED-TTL:P3D
REFRESH-INTERVAL:P3D
CALSCALE:GREGORIAN
BEGIN:VEVENT
DTSTART:20210610T220000Z
DTEND:20210610T233000Z
X-MICROSOFT-CDO-ALLDAYEVENT:FALSE
SUMMARY:Employee Trip Reduction Program
DESCRIPTION:What Colorado's Employee Traffic Reduction Program (ETRP) Means for Your Business.\n..................................................\n\n \n\nIn order to stay ahead of the rule-making\, and to provide an event where we can collectively hear from the membership across our chambers. The Boulder Chamber is holding an informative event.Does your business employ more than 100 people at a worksite in Boulder or Broomfield Counties? The Northwest Chamber Alliance is seeking your input to help shape the State of Colorado's Employee Traffic Reduction Program (ETRP). Join this virtual policy roundtable on Thursday\, June 10\, to learn more about the potential regulation and share your feedback. Register here.
X-ALT-DESC;FMTTYPE=text/html:<h1 itemprop="name" style="box-sizing: content-box\; border-width: initial\; border-style: none\; border-color: initial\; border-image: none 100% 1 0 / 1 / 0 stretch\; font-size: 50px\; font-weight: inherit\; margin: 0px\; outline: 0px\; padding: 0px\; vertical-align: baseline\; clear: none\; color: rgb(68\, 68\, 68)\; line-height: 65px\; font-family: justuspro\, bold\; inset: auto\; content: normal\; direction: inherit\; empty-cells: show\; font-variant-numeric: inherit\; font-variant-east-asian: inherit\; font-stretch: inherit\; max-height: none\; max-width: none\; min-height: initial\; min-width: initial\; opacity: 1\; outline-offset: 0px\; overflow: visible\; position: static\; resize: none\; table-layout: auto\; text-overflow: clip\; visibility: inherit\; word-break: inherit\; overflow-wrap: inherit\; z-index: auto\; background: none rgb(255\, 255\, 255)\; border-collapse: separate\; border-radius: 0px\; height: auto\; width: auto\; box-shadow: none\;"><span style="font-size:22px\;"><span style="font-family:arial\;">What Colorado&#39\;s Employee Traffic Reduction Program (ETRP) Means for Your Business.</span></span></h1>\n..................................................<br />\n&nbsp\;<br />\n<span style="font-size:12px\;"><span style="font-family:arial\;">In order to stay ahead of the rule-making\, and to provide an event where we can collectively hear from the membership across our chambers. The Boulder Chamber is holding an informative event.<span style="color:#515351\;">Does your business employ more than 100 people at a worksite in Boulder or Broomfield Counties? The Northwest Chamber Alliance is seeking your input to help shape the State of Colorado&#39\;s Employee Traffic Reduction Program (ETRP). Join this virtual policy roundtable on Thursday\, June 10\, to learn more about the potential regulation and share your feedback. <a href="https://boulder.chambermaster.com/eventregistration/register/23965" target="_blank"><strong><span style="text-decoration-line:none\;"><span style="color:#e98c21\;">Register here.</span></span></strong></a></span></span></span><br />\n&nbsp\;
LOCATION:Zoom\, register to receive details.
UID:e.641.16376
SEQUENCE:3
DTSTAMP:20260425T133551Z
URL:http://broomfieldchamber.chambermaster.com/events/details/employee-trip-reduction-program-16376
END:VEVENT

END:VCALENDAR
